BEGIN:VCALENDAR
VERSION:2.0
PRODID:-//Mairie de Drap - ECPv5.14.0.4//NONSGML v1.0//EN
CALSCALE:GREGORIAN
METHOD:PUBLISH
X-WR-CALNAME:Mairie de Drap
X-ORIGINAL-URL:https://www.ville-drap.fr
X-WR-CALDESC:évènements pour Mairie de Drap
BEGIN:VTIMEZONE
TZID:Europe/Paris
BEGIN:DAYLIGHT
TZOFFSETFROM:+0100
TZOFFSETTO:+0200
TZNAME:CEST
DTSTART:20180325T010000
END:DAYLIGHT
BEGIN:STANDARD
TZOFFSETFROM:+0200
TZOFFSETTO:+0100
TZNAME:CET
DTSTART:20181028T010000
END:STANDARD
END:VTIMEZONE
BEGIN:VEVENT
DTSTART;TZID=Europe/Paris:20180324T190000
DTEND;TZID=Europe/Paris:20180324T230000
DTSTAMP:20260423T093417
CREATED:20180205T161837Z
LAST-MODIFIED:20180205T161837Z
UID:5688-1521918000-1521932400@www.ville-drap.fr
SUMMARY:Soirée théâtre : Comédie "La chieuse"
DESCRIPTION:Samedi 24 mars\nSoupe au pistou + boisson 5 € à partir de 19 h\n Spectacle à 20 h 30 – Tarif unique 15 €\n Renseignements et réservations : 09 61 22 06 87 \n  \nPlus d’infos…\nLe Comité Développement Durable d’Auchan La Trinité et ses partenaires proposent une comédie de Jean Franco et Patrice Dard\, jouée par la Compagnie « Coup de théâtre »\, au profit de SOS Cancer du Sein.\nLe pitch : C’est l’effervescence dans la très luxueuse propriété californienne de Samuel Linman. Producteur de cinéma Hollywoodien\, Samuel épouse aujourd’hui Kelly\, jeune starlette de 30 ans sa cadette. Tout est « checké » de A à Z….. Survient une invitée surprise : Sarah\, la cousine de Samuel. Avec une délectation certaine et une bonne dose de cynisme\, Sarah semble tout faire pour semer la zizanie. S’ensuivent une cascade de contretemps\, de péripéties\, de situations ahurissantes dans lesquelles l’argent tient une place prépondérante. Il faut dire que Sarah exerce un métier très particulier : c’est une chieuse professionnelle….
URL:https://www.ville-drap.fr/events/soiree-theatre-comedie-chieuse/
END:VEVENT
END:VCALENDAR