BEGIN:VCALENDAR
VERSION:2.0
PRODID:-//Mairie de Drap - ECPv5.14.0.4//NONSGML v1.0//EN
CALSCALE:GREGORIAN
METHOD:PUBLISH
X-WR-CALNAME:Mairie de Drap
X-ORIGINAL-URL:https://www.ville-drap.fr
X-WR-CALDESC:évènements pour Mairie de Drap
BEGIN:VTIMEZONE
TZID:Europe/Paris
BEGIN:DAYLIGHT
TZOFFSETFROM:+0100
TZOFFSETTO:+0200
TZNAME:CEST
DTSTART:20170326T010000
END:DAYLIGHT
BEGIN:STANDARD
TZOFFSETFROM:+0200
TZOFFSETTO:+0100
TZNAME:CET
DTSTART:20171029T010000
END:STANDARD
END:VTIMEZONE
BEGIN:VEVENT
DTSTART;TZID=Europe/Paris:20171208T080000
DTEND;TZID=Europe/Paris:20171208T203000
DTSTAMP:20260421T053700
CREATED:20171027T153310Z
LAST-MODIFIED:20171027T153311Z
UID:5101-1512720000-1512765000@www.ville-drap.fr
SUMMARY:Soirée théâtre : Comédie "Mon meilleur copain"
DESCRIPTION:Vendredi 8 décembre\nEspace Jean-Ferrat\n 20 h 30\n Tarif unique : 10 € -Placement libre\n Ouverture des portes à 19 h 30\n Buvette sur place\n Infos et réservations 09 61 22 06 87\n Billetterie en ligne cliquez ici \nPlus d’infos…\nComédie proposée par la Ville de Drap et Chouette Productions avec Sylvain Berardi\, Lionel Bouttau\, Elodie Fournier\, Lucie Laffitee et Bénédicte Leturcq.\nBernard et Philippe sont les meilleurs amis du monde. Bernard est marié mais il est infidèle. Sa femme risquant de découvrir ses écarts\, il demande à Philippe de le couvrir. C’est le début d’un engrenage infernal pour le pauvre Philippe\, car Bernard a l’amitié abusive…
URL:https://www.ville-drap.fr/events/soiree-theatre-comedie-meilleur-copain/
END:VEVENT
END:VCALENDAR