BEGIN:VCALENDAR
VERSION:2.0
PRODID:-//Mairie de Drap - ECPv5.14.0.4//NONSGML v1.0//EN
CALSCALE:GREGORIAN
METHOD:PUBLISH
X-WR-CALNAME:Mairie de Drap
X-ORIGINAL-URL:https://www.ville-drap.fr
X-WR-CALDESC:évènements pour Mairie de Drap
BEGIN:VTIMEZONE
TZID:Europe/Paris
BEGIN:DAYLIGHT
TZOFFSETFROM:+0100
TZOFFSETTO:+0200
TZNAME:CEST
DTSTART:20180325T010000
END:DAYLIGHT
BEGIN:STANDARD
TZOFFSETFROM:+0200
TZOFFSETTO:+0100
TZNAME:CET
DTSTART:20181028T010000
END:STANDARD
END:VTIMEZONE
BEGIN:VEVENT
DTSTART;TZID=Europe/Paris:20180721T200000
DTEND;TZID=Europe/Paris:20180721T233000
DTSTAMP:20260426T011905
CREATED:20180705T145506Z
LAST-MODIFIED:20180705T152032Z
UID:6499-1532203200-1532215800@www.ville-drap.fr
SUMMARY:Soupe au pistou du Comité des fêtes
DESCRIPTION:Samedi 21 juillet\n20 h\nChapelle sainte Catherine\nInscriptions du 2 au 18 juillet de 10 h à 12 h dans le hall de l’Espace Jean Ferrat\nRens. : 06 19 67 97 58 / 06 85 57 55 02
URL:https://www.ville-drap.fr/events/soupe-pistou-comite-fetes-2/
END:VEVENT
END:VCALENDAR