BEGIN:VCALENDAR
VERSION:2.0
PRODID:-//Mairie de Drap - ECPv5.14.0.4//NONSGML v1.0//EN
CALSCALE:GREGORIAN
METHOD:PUBLISH
X-WR-CALNAME:Mairie de Drap
X-ORIGINAL-URL:https://www.ville-drap.fr
X-WR-CALDESC:évènements pour Mairie de Drap
BEGIN:VTIMEZONE
TZID:UTC
BEGIN:STANDARD
TZOFFSETFROM:+0000
TZOFFSETTO:+0000
TZNAME:UTC
DTSTART:20250101T000000
END:STANDARD
END:VTIMEZONE
BEGIN:VEVENT
DTSTART;TZID=UTC:20250517T150000
DTEND;TZID=UTC:20250517T170000
DTSTAMP:20260422T100159
CREATED:20250509T133022Z
LAST-MODIFIED:20250509T133022Z
UID:16989-1747494000-1747501200@www.ville-drap.fr
SUMMARY:Spectacle "Conte\, danse et musique d'Afrique"
DESCRIPTION:Samedi 17 mai 2025\n14 h 00 – 15 h 00\nMédiathèque de La Condamine (1 impasse du Mas Vieil)\nGoûter offert\nEntrée libre\nInfos : 04 93 80 87 76 \nPlus d’infos…\nLa Commune de Drap vous transporte dans l’univers vibrant du conte\, de la danse et de la musique d’Afrique avec l’association Aux P’tits Bonheurs !
URL:https://www.ville-drap.fr/events/spectacle-conte-danse-et-musique-dafrique/
END:VEVENT
END:VCALENDAR