BEGIN:VCALENDAR
VERSION:2.0
PRODID:-//Mairie de Drap - ECPv5.14.0.4//NONSGML v1.0//EN
CALSCALE:GREGORIAN
METHOD:PUBLISH
X-WR-CALNAME:Mairie de Drap
X-ORIGINAL-URL:https://www.ville-drap.fr
X-WR-CALDESC:évènements pour Mairie de Drap
BEGIN:VTIMEZONE
TZID:UTC
BEGIN:STANDARD
TZOFFSETFROM:+0000
TZOFFSETTO:+0000
TZNAME:UTC
DTSTART:20240101T000000
END:STANDARD
END:VTIMEZONE
BEGIN:VEVENT
DTSTART;TZID=UTC:20240629T170000
DTEND;TZID=UTC:20240629T190000
DTSTAMP:20260421T215818
CREATED:20240531T115802Z
LAST-MODIFIED:20240531T120152Z
UID:16020-1719680400-1719687600@www.ville-drap.fr
SUMMARY:Spectacle du Centre Culturel des Gras
DESCRIPTION:Samedi 29 juin\n17 h 00\nEspace Jean Ferrat\nEntrée libre\nInfos au : 04 93 81 71 67
URL:https://www.ville-drap.fr/events/spectacle-du-centre-culturel-des-gras-3/
END:VEVENT
END:VCALENDAR