BEGIN:VCALENDAR
VERSION:2.0
PRODID:-//Mairie de Drap - ECPv5.14.0.4//NONSGML v1.0//EN
CALSCALE:GREGORIAN
METHOD:PUBLISH
X-WR-CALNAME:Mairie de Drap
X-ORIGINAL-URL:https://www.ville-drap.fr
X-WR-CALDESC:évènements pour Mairie de Drap
BEGIN:VTIMEZONE
TZID:Europe/Paris
BEGIN:DAYLIGHT
TZOFFSETFROM:+0100
TZOFFSETTO:+0200
TZNAME:CEST
DTSTART:20180325T010000
END:DAYLIGHT
BEGIN:STANDARD
TZOFFSETFROM:+0200
TZOFFSETTO:+0100
TZNAME:CET
DTSTART:20181028T010000
END:STANDARD
END:VTIMEZONE
BEGIN:VEVENT
DTSTART;TZID=Europe/Paris:20180203T203000
DTEND;TZID=Europe/Paris:20180203T230000
DTSTAMP:20260422T060027
CREATED:20180105T110034Z
LAST-MODIFIED:20180105T111324Z
UID:5485-1517689800-1517698800@www.ville-drap.fr
SUMMARY:Spectacle "Eric Leblon - L'illumoriste"
DESCRIPTION:Samedi 3 février\n20 h 30\n Espace Jean Ferrat\n Renseignements et réservations : 09 61 22 06 87\n Billetterie en ligne cliquez ici\nTarif unique : 18 € \n  \nPlus d’infos…\nEric Leblon vous embarque dans son univers déjanté. Il danse\, virevolte\, s’amuse sur scène et avec le public\, a un rythme d’enfer dans un spectacle qui évolue constamment entre magie pure\, stand up et humour décapant.  Révélé par l’émission «La France a un Incroyable Talent» sur M6\, Eric Leblon\, l’humoriste est  assurément le spectacle à voir ! Eric Leblon a remporté de nombreux prix de magie dans différents festivals : Merit Award Londres – Grand prix de la Colombe d’or – Grand Prix « Les plus grand Magiciens » – Vice-Champion de France – 1er prix «Master of Magic» Italie. Dernièrement\, il a remporté le prestigieux prix du Jury du très réputé festival d’humour de Roquencourt.
URL:https://www.ville-drap.fr/events/spectacle-eric-leblon-lillumoriste/
END:VEVENT
END:VCALENDAR