BEGIN:VCALENDAR
VERSION:2.0
PRODID:-//Mairie de Drap - ECPv5.14.0.4//NONSGML v1.0//EN
CALSCALE:GREGORIAN
METHOD:PUBLISH
X-WR-CALNAME:Mairie de Drap
X-ORIGINAL-URL:https://www.ville-drap.fr
X-WR-CALDESC:évènements pour Mairie de Drap
BEGIN:VTIMEZONE
TZID:UTC
BEGIN:STANDARD
TZOFFSETFROM:+0000
TZOFFSETTO:+0000
TZNAME:UTC
DTSTART:20240101T000000
END:STANDARD
END:VTIMEZONE
BEGIN:VEVENT
DTSTART;TZID=UTC:20241030T150000
DTEND;TZID=UTC:20241030T160000
DTSTAMP:20260423T192245
CREATED:20241023T091355Z
LAST-MODIFIED:20241023T091355Z
UID:16514-1730300400-1730304000@www.ville-drap.fr
SUMMARY:Spectacle Halloween
DESCRIPTION:Mercredi 30 octobre\n15 h 00\nMédiathèque du village (au sein du Centre Culturel des Gras\, 1 chemin des Gras\, 06340 DRAP)\nGratuit – suivi d’un goûter \nPlus d’infos…\nLa Commune de Drap vous offre un spectacle de marionnettes. Intitulé « Un bonbon ou un sort » attend tous les enfants et les parents qui adorent l’automne. Sébastien Morena entraîne les petits et les grands dans le monde d’Halloween avec le Comte Draculus.\nÀ l’automne\, le Comte Dracula organise une énorme fête avec tous ses amis pour célébrer Halloween. Mais cette année\, tout ne se passe pas comme prévu. Le jour du grand frisson\, aucun invité n’est présent. Les familles confortablement installées dans la salle soupçonnent le méchant Jack d’avoir voulu gâcher les festivités en empêchant les invités de se rendre à la soirée. Et pour cause : il n’a pas été invité et souhaite se venger. C’était sans compter sur la détermination de Bart\, un bon ami de Draculus. Il fera tout pour faire échouer le plan de Jack. Mais pour cela\, il aura besoin de l’aide des enfants présents dans le public. \nA voir en famille\, à partir de 2 ans. Durée 35 minutes0
URL:https://www.ville-drap.fr/events/spectacle-halloween/
END:VEVENT
END:VCALENDAR