BEGIN:VCALENDAR
VERSION:2.0
PRODID:-//Mairie de Drap - ECPv5.14.0.4//NONSGML v1.0//EN
CALSCALE:GREGORIAN
METHOD:PUBLISH
X-WR-CALNAME:Mairie de Drap
X-ORIGINAL-URL:https://www.ville-drap.fr
X-WR-CALDESC:évènements pour Mairie de Drap
BEGIN:VTIMEZONE
TZID:Europe/Paris
BEGIN:DAYLIGHT
TZOFFSETFROM:+0100
TZOFFSETTO:+0200
TZNAME:CEST
DTSTART:20180325T010000
END:DAYLIGHT
BEGIN:STANDARD
TZOFFSETFROM:+0200
TZOFFSETTO:+0100
TZNAME:CET
DTSTART:20181028T010000
END:STANDARD
END:VTIMEZONE
BEGIN:VEVENT
DTSTART;TZID=Europe/Paris:20180407T203000
DTEND;TZID=Europe/Paris:20180407T230000
DTSTAMP:20260423T160657
CREATED:20180109T163641Z
LAST-MODIFIED:20180109T163641Z
UID:5536-1523133000-1523142000@www.ville-drap.fr
SUMMARY:Spectacle "Michel Kaplan - Mentaliste hypnotiseur"
DESCRIPTION:Samedi 7 avril 2018\n20 h 30\n Espace Jean-Ferrat\n Tarif unique : 13 €\n Billetterie en ligne cliquez ici\n Infos et réservations : 09 61 22 06 87 \n  \n 
URL:https://www.ville-drap.fr/events/spectacle-michel-kaplan-mentaliste-hypnotiseur/
END:VEVENT
END:VCALENDAR