BEGIN:VCALENDAR
VERSION:2.0
PRODID:-//Mairie de Drap - ECPv5.14.0.4//NONSGML v1.0//EN
CALSCALE:GREGORIAN
METHOD:PUBLISH
X-WR-CALNAME:Mairie de Drap
X-ORIGINAL-URL:https://www.ville-drap.fr
X-WR-CALDESC:évènements pour Mairie de Drap
BEGIN:VTIMEZONE
TZID:Europe/Paris
BEGIN:DAYLIGHT
TZOFFSETFROM:+0100
TZOFFSETTO:+0200
TZNAME:CEST
DTSTART:20180325T010000
END:DAYLIGHT
BEGIN:STANDARD
TZOFFSETFROM:+0200
TZOFFSETTO:+0100
TZNAME:CET
DTSTART:20181028T010000
END:STANDARD
END:VTIMEZONE
BEGIN:VEVENT
DTSTART;TZID=Europe/Paris:20180708T143000
DTEND;TZID=Europe/Paris:20180708T183000
DTSTAMP:20260425T144950
CREATED:20180517T092427Z
LAST-MODIFIED:20180525T093431Z
UID:6264-1531060200-1531074600@www.ville-drap.fr
SUMMARY:Thé dansant du CCAS
DESCRIPTION:Dimanche 8 juillet\n14 h 30\n Espace Jean Ferrat\n Entrée 6 € (boisson et pâtisserie comprises)\n Inscriptions : 04 97 00 06 31
URL:https://www.ville-drap.fr/events/the-dansant-ccas-17/
END:VEVENT
END:VCALENDAR