BEGIN:VCALENDAR
VERSION:2.0
PRODID:-//Mairie de Drap - ECPv5.14.0.4//NONSGML v1.0//EN
CALSCALE:GREGORIAN
METHOD:PUBLISH
X-WR-CALNAME:Mairie de Drap
X-ORIGINAL-URL:https://www.ville-drap.fr
X-WR-CALDESC:évènements pour Mairie de Drap
BEGIN:VTIMEZONE
TZID:UTC
BEGIN:STANDARD
TZOFFSETFROM:+0000
TZOFFSETTO:+0000
TZNAME:UTC
DTSTART:20240101T000000
END:STANDARD
END:VTIMEZONE
BEGIN:VEVENT
DTSTART;TZID=UTC:20241005T080000
DTEND;TZID=UTC:20241006T170000
DTSTAMP:20260423T085634
CREATED:20240923T131704Z
LAST-MODIFIED:20240923T131704Z
UID:16386-1728115200-1728234000@www.ville-drap.fr
SUMMARY:ULTRA TRAIL NICE COTE D'AZUR BY UTMB
DESCRIPTION:Samedi 5 -Dimanche 6 octobre\n  \nEspace Jean Ferrat\nPassage des coureurs participants aux trails du Nice Côte d’Azur by UTMB\nAnimations tout le week-end \n  \nPlus d’infos… \nUn Drapois à suivre !\nAnthony Suaut\, 30ème du 100K l’an dernier et vainqueur de multiples courses cette saison\, participe cette année à la course phare : le 100M\, soit près de 161 km entre Auron et Nice! Il portera le dossard 73. Si tout se passe bien\, il devrait arriver à l’Espace Jean Ferrat pour le ravitaillement entre 11 h 30 et 14 h 00 le samedi 5 octobre. Venez l’encourager ! \n  \net notamment le samedi 5 octobre avec le programme « Santé bouger » d’Octobre rose (Marche rose au départ du Centre de soins de La Condamine à 9 h 00 suivie du Smoothie Vélo avec la Communauté Professionnelle Territoriale de Santé des Vallées du Paillon et de la Banquière \, Zumba party avec Let’s dance\,…)
URL:https://www.ville-drap.fr/events/ultra-trail-nice-cote-dazur-by-utmb-2/
END:VEVENT
END:VCALENDAR