BEGIN:VCALENDAR
VERSION:2.0
PRODID:-//Mairie de Drap - ECPv5.14.0.4//NONSGML v1.0//EN
CALSCALE:GREGORIAN
METHOD:PUBLISH
X-WR-CALNAME:Mairie de Drap
X-ORIGINAL-URL:https://www.ville-drap.fr
X-WR-CALDESC:évènements pour Mairie de Drap
BEGIN:VTIMEZONE
TZID:UTC
BEGIN:STANDARD
TZOFFSETFROM:+0000
TZOFFSETTO:+0000
TZNAME:UTC
DTSTART:20250101T000000
END:STANDARD
END:VTIMEZONE
BEGIN:VEVENT
DTSTART;TZID=UTC:20250329T083000
DTEND;TZID=UTC:20250329T163000
DTSTAMP:20260423T074151
CREATED:20250317T155851Z
LAST-MODIFIED:20250317T155924Z
UID:16837-1743237000-1743265800@www.ville-drap.fr
SUMMARY:Vide ta chambre
DESCRIPTION:Samedi 29 mars\n8 h 30 – 16 h 30\n(ouverture exposants à 7 h 30)\nEspace Jean Ferrat\nInfos : 06 59 66 96 25 \n  \nPlus d’infos…\nTout l’univers bébé\, enfants\, ado et adulte… \nOrganisé par l’APE Les Petits Curieux Drapois Espace Jean Ferrat \n 
URL:https://www.ville-drap.fr/events/vide-ta-chambre/
END:VEVENT
END:VCALENDAR