BEGIN:VCALENDAR
VERSION:2.0
PRODID:-//Mairie de Drap - ECPv5.14.0.4//NONSGML v1.0//EN
CALSCALE:GREGORIAN
METHOD:PUBLISH
X-WR-CALNAME:Mairie de Drap
X-ORIGINAL-URL:https://www.ville-drap.fr
X-WR-CALDESC:évènements pour Mairie de Drap
BEGIN:VTIMEZONE
TZID:UTC
BEGIN:STANDARD
TZOFFSETFROM:+0000
TZOFFSETTO:+0000
TZNAME:UTC
DTSTART:20240101T000000
END:STANDARD
END:VTIMEZONE
BEGIN:VEVENT
DTSTART;TZID=UTC:20240605T080000
DTEND;TZID=UTC:20240605T170000
DTSTAMP:20260420T142011
CREATED:20240605T101259Z
LAST-MODIFIED:20240605T101315Z
UID:16057-1717574400-1717606800@www.ville-drap.fr
SUMMARY:Visite de quartier : Quatre chemins
DESCRIPTION:Mercredi 12 juin\n17 h 00\naux 4 Chemins\n \n  \nPlus d’infos…\nLe Maire de Drap Robert NARDELLI et vos élus viennent à votre rencontre\, dans votre quartier pour évoquer la vie de votre quartier\, et vos attentes. Afin de vous apporter les éléments les plus précis\, merci de nous adresser vos questions et vos propositions par mél à mairie@ville-drap.fr au plus tard le 10 juin 2024.
URL:https://www.ville-drap.fr/events/visite-de-quartier-bas-ubac-les-terres-blanches-copy/
END:VEVENT
END:VCALENDAR