BEGIN:VCALENDAR
VERSION:2.0
PRODID:-//Mairie de Drap - ECPv5.14.0.4//NONSGML v1.0//EN
CALSCALE:GREGORIAN
METHOD:PUBLISH
X-WR-CALNAME:Mairie de Drap
X-ORIGINAL-URL:https://www.ville-drap.fr
X-WR-CALDESC:évènements pour Mairie de Drap
BEGIN:VTIMEZONE
TZID:UTC
BEGIN:STANDARD
TZOFFSETFROM:+0000
TZOFFSETTO:+0000
TZNAME:UTC
DTSTART:20250101T000000
END:STANDARD
END:VTIMEZONE
BEGIN:VEVENT
DTSTART;TZID=UTC:20250429T180000
DTEND;TZID=UTC:20250429T200000
DTSTAMP:20260423T000423
CREATED:20250428T143131Z
LAST-MODIFIED:20250428T143954Z
UID:16927-1745949600-1745956800@www.ville-drap.fr
SUMMARY:Visite de quartier : Grec
DESCRIPTION:Mardi 29 avril\n18 h 00\n480 Chemin du Grec \n  \nPlus d’infos…\nRobert Nardelli vient à votre rencontre ! Venez échanger sur la vie de votre quartier !\nQuestions jusqu’au 28 avril à mairie@ville-drap.fr
URL:https://www.ville-drap.fr/events/visite-de-quartier-bas-village-copy/
END:VEVENT
END:VCALENDAR