BEGIN:VCALENDAR
VERSION:2.0
PRODID:-//Mairie de Drap - ECPv5.14.0.4//NONSGML v1.0//EN
CALSCALE:GREGORIAN
METHOD:PUBLISH
X-WR-CALNAME:Mairie de Drap
X-ORIGINAL-URL:https://www.ville-drap.fr
X-WR-CALDESC:évènements pour Mairie de Drap
BEGIN:VTIMEZONE
TZID:UTC
BEGIN:STANDARD
TZOFFSETFROM:+0000
TZOFFSETTO:+0000
TZNAME:UTC
DTSTART:20250101T000000
END:STANDARD
END:VTIMEZONE
BEGIN:VEVENT
DTSTART;TZID=UTC:20250506T180000
DTEND;TZID=UTC:20250506T193000
DTSTAMP:20260422T201230
CREATED:20250409T145426Z
LAST-MODIFIED:20250409T145426Z
UID:16881-1746554400-1746559800@www.ville-drap.fr
SUMMARY:Visite de quartier : Bas village
DESCRIPTION:Mardi 6 mai\n18 h 00\nPlace Clemenceau \n  \nPlus d’infos…\nRobert Nardelli vient à votre rencontre ! Venez échanger sur la vie de votre quartier !\nQuestions jusqu’au 5 mai à mairie@ville-drap.fr
URL:https://www.ville-drap.fr/events/visite-de-quartier-bas-village/
END:VEVENT
END:VCALENDAR