BEGIN:VCALENDAR
VERSION:2.0
PRODID:-//Mairie de Drap - ECPv5.14.0.4//NONSGML v1.0//EN
CALSCALE:GREGORIAN
METHOD:PUBLISH
X-WR-CALNAME:Mairie de Drap
X-ORIGINAL-URL:https://www.ville-drap.fr
X-WR-CALDESC:évènements pour Mairie de Drap
BEGIN:VTIMEZONE
TZID:Europe/Paris
BEGIN:DAYLIGHT
TZOFFSETFROM:+0100
TZOFFSETTO:+0200
TZNAME:CEST
DTSTART:20240331T010000
END:DAYLIGHT
BEGIN:STANDARD
TZOFFSETFROM:+0200
TZOFFSETTO:+0100
TZNAME:CET
DTSTART:20241027T010000
END:STANDARD
END:VTIMEZONE
BEGIN:VEVENT
DTSTART;TZID=Europe/Paris:20240924T180000
DTEND;TZID=Europe/Paris:20240924T193000
DTSTAMP:20260423T034201
CREATED:20240920T084519Z
LAST-MODIFIED:20240920T085454Z
UID:16361-1727200800-1727206200@www.ville-drap.fr
SUMMARY:Visite de quartier : Centre village
DESCRIPTION:Mardi 24 septembre\n18 h 00\nPlace Clemenceau Morad Tounsi\nQuestions et propositions jusqu’au 20/09/24 à mairie@ville-drap.fr
URL:https://www.ville-drap.fr/events/visite-de-quartier-centre-village/
END:VEVENT
END:VCALENDAR